BEGIN:VCALENDAR
PRODID:-//github.com/rianjs/ical.net//NONSGML ical.net 4.0//EN
VERSION:2.0
BEGIN:VTIMEZONE
TZID:Central Standard Time
X-LIC-LOCATION:America/Chicago
BEGIN:STANDARD
DTSTART:20241103T020000
RRULE:FREQ=YEARLY;BYDAY=1SU;BYMONTH=11
TZNAME:CST
TZOFFSETFROM:-0500
TZOFFSETTO:-0600
END:STANDARD
BEGIN:DAYLIGHT
DTSTART:20250309T020000
RRULE:FREQ=YEARLY;BYDAY=2SU;BYMONTH=3
TZNAME:CDT
TZOFFSETFROM:-0600
TZOFFSETTO:-0500
END:DAYLIGHT
END:VTIMEZONE
BEGIN:VEVENT
DTEND;TZID=Central Standard Time;VALUE=DATE:20270523
DTSTAMP:20260425T011047Z
DTSTART;TZID=Central Standard Time;VALUE=DATE:20270516
LOCATION:None
ORGANIZER;CN=;SENT-BY="mailto:":
SEQUENCE:0
SUMMARY:WEMSA: National EMS Week 2027
UID:0b910d27-ef55-4b80-8d38-6187e94cf122
END:VEVENT
END:VCALENDAR
